Package: MEAL Version: 1.37.0 Command: /home/biocbuild/R/R/bin/R CMD check --install=check:MEAL.install-out.txt --library=/home/biocbuild/R/R/site-library --no-vignettes --timings MEAL_1.37.0.tar.gz StartedAt: 2025-01-28 12:08:47 -0000 (Tue, 28 Jan 2025) EndedAt: 2025-01-28 12:16:10 -0000 (Tue, 28 Jan 2025) EllapsedTime: 442.5 seconds RetCode: 0 Status: WARNINGS CheckDir: MEAL.Rcheck Warnings: 7