Package: MEAL Version: 1.37.0 Command: /Library/Frameworks/R.framework/Resources/bin/R CMD build --keep-empty-dirs --no-resave-data MEAL StartedAt: 2025-02-09 17:20:18 -0500 (Sun, 09 Feb 2025) EndedAt: 2025-02-09 17:27:36 -0500 (Sun, 09 Feb 2025) EllapsedTime: 437.5 seconds RetCode: 0 Status: OK PackageFile: MEAL_1.37.0.tar.gz PackageFileSize: 2.067 MiB