Package: MEAL Version: 1.37.0 Command: /home/biocbuild/bbs-3.21-bioc/R/bin/R CMD check --install=check:MEAL.install-out.txt --library=/home/biocbuild/bbs-3.21-bioc/R/site-library --timings MEAL_1.37.0.tar.gz StartedAt: 2025-02-09 23:50:06 -0500 (Sun, 09 Feb 2025) EndedAt: 2025-02-10 00:03:29 -0500 (Mon, 10 Feb 2025) EllapsedTime: 804.0 seconds RetCode: 0 Status: WARNINGS CheckDir: MEAL.Rcheck Warnings: 2