Package: MEAL Version: 1.37.0 Command: /home/biocbuild/bbs-3.21-bioc/R/bin/R CMD INSTALL MEAL StartedAt: 2025-02-04 16:02:06 -0500 (Tue, 04 Feb 2025) EndedAt: 2025-02-04 16:02:47 -0500 (Tue, 04 Feb 2025) EllapsedTime: 40.3 seconds RetCode: 0 Status: OK