Package: MEAT Version: 1.19.0 Command: rm -rf MEAT.buildbin-libdir && mkdir MEAT.buildbin-libdir && /Users/biocbuild/BBS/utils/build-universal.sh MEAT_1.19.0.tar.gz /Library/Frameworks/R.framework/Resources/bin/R MEAT.buildbin-libdir StartedAt: 2025-02-09 22:20:05 -0500 (Sun, 09 Feb 2025) EndedAt: 2025-02-09 22:20:29 -0500 (Sun, 09 Feb 2025) EllapsedTime: 23.6 seconds RetCode: 0 Status: OK PackageFile: MEAT_1.19.0.tgz PackageFileSize: 5.608 MiB