Package: MEAT Version: 1.19.0 Command: /Library/Frameworks/R.framework/Resources/bin/R CMD build --keep-empty-dirs --no-resave-data MEAT StartedAt: 2025-02-09 16:50:11 -0500 (Sun, 09 Feb 2025) EndedAt: 2025-02-09 16:50:48 -0500 (Sun, 09 Feb 2025) EllapsedTime: 36.4 seconds RetCode: 0 Status: OK PackageFile: MEAT_1.19.0.tar.gz PackageFileSize: 4.974 MiB