Package: MEAT Version: 1.19.0 Command: /Library/Frameworks/R.framework/Resources/bin/R CMD check --install=check:MEAT.install-out.txt --library=/Library/Frameworks/R.framework/Resources/library --no-vignettes --timings MEAT_1.19.0.tar.gz StartedAt: 2025-02-09 19:57:57 -0500 (Sun, 09 Feb 2025) EndedAt: 2025-02-09 20:00:22 -0500 (Sun, 09 Feb 2025) EllapsedTime: 144.8 seconds RetCode: 0 Status: WARNINGS CheckDir: MEAT.Rcheck Warnings: 1