Package: MEAT Version: 1.19.0 Command: /home/biocbuild/R/R/bin/R CMD check --install=check:MEAT.install-out.txt --library=/home/biocbuild/R/R/site-library --no-vignettes --timings MEAT_1.19.0.tar.gz StartedAt: 2025-01-28 12:09:12 -0000 (Tue, 28 Jan 2025) EndedAt: 2025-01-28 12:17:18 -0000 (Tue, 28 Jan 2025) EllapsedTime: 485.5 seconds RetCode: 0 Status: WARNINGS CheckDir: MEAT.Rcheck Warnings: 6