Package: MEAT Version: 1.19.0 Command: /Library/Frameworks/R.framework/Resources/bin/R CMD build --keep-empty-dirs --no-resave-data MEAT StartedAt: 2025-02-04 17:15:39 -0500 (Tue, 04 Feb 2025) EndedAt: 2025-02-04 17:17:15 -0500 (Tue, 04 Feb 2025) EllapsedTime: 96.0 seconds RetCode: 0 Status: OK PackageFile: MEAT_1.19.0.tar.gz PackageFileSize: 4.974 MiB