Package: MEAT Version: 1.19.0 Command: /home/biocbuild/bbs-3.21-bioc/R/bin/R CMD INSTALL MEAT StartedAt: 2025-02-09 16:00:56 -0500 (Sun, 09 Feb 2025) EndedAt: 2025-02-09 16:01:44 -0500 (Sun, 09 Feb 2025) EllapsedTime: 47.8 seconds RetCode: 0 Status: OK