Package: MEAT Version: 1.19.0 Command: chmod a+r MEAT -R && E:\biocbuild\bbs-3.21-bioc\R\bin\R.exe CMD build --keep-empty-dirs --no-resave-data MEAT StartedAt: 2025-02-04 19:45:41 -0500 (Tue, 04 Feb 2025) EndedAt: 2025-02-04 19:47:33 -0500 (Tue, 04 Feb 2025) EllapsedTime: 111.9 seconds RetCode: 0 Status: OK PackageFile: MEAT_1.19.0.tar.gz PackageFileSize: 4.974 MiB