Package: MEAT Version: 1.19.0 Command: E:\biocbuild\bbs-3.21-bioc\R\bin\R.exe CMD INSTALL MEAT StartedAt: 2025-02-04 16:56:11 -0500 (Tue, 04 Feb 2025) EndedAt: 2025-02-04 16:57:12 -0500 (Tue, 04 Feb 2025) EllapsedTime: 61.2 seconds RetCode: 0 Status: OK