Package: MEB Version: 1.21.0 Command: rm -rf MEB.buildbin-libdir && mkdir MEB.buildbin-libdir && /Users/biocbuild/BBS/utils/build-universal.sh MEB_1.21.0.tar.gz /Library/Frameworks/R.framework/Resources/bin/R MEB.buildbin-libdir StartedAt: 2025-02-09 22:20:05 -0500 (Sun, 09 Feb 2025) EndedAt: 2025-02-09 22:20:17 -0500 (Sun, 09 Feb 2025) EllapsedTime: 12.3 seconds RetCode: 0 Status: OK PackageFile: MEB_1.21.0.tgz PackageFileSize: 1.445 MiB