Package: MEB Version: 1.21.0 Command: /Library/Frameworks/R.framework/Resources/bin/R CMD build --keep-empty-dirs --no-resave-data MEB StartedAt: 2025-02-12 16:50:30 -0500 (Wed, 12 Feb 2025) EndedAt: 2025-02-12 16:50:50 -0500 (Wed, 12 Feb 2025) EllapsedTime: 19.2 seconds RetCode: 0 Status: OK PackageFile: MEB_1.21.0.tar.gz PackageFileSize: 1.179 MiB