Package: MEB Version: 1.21.0 Command: /Library/Frameworks/R.framework/Resources/bin/R CMD build --keep-empty-dirs --no-resave-data MEB StartedAt: 2025-02-09 17:20:28 -0500 (Sun, 09 Feb 2025) EndedAt: 2025-02-09 17:21:21 -0500 (Sun, 09 Feb 2025) EllapsedTime: 53.8 seconds RetCode: 0 Status: OK PackageFile: MEB_1.21.0.tar.gz PackageFileSize: 1.179 MiB