Package: MEB Version: 1.21.0 Command: /Library/Frameworks/R.framework/Resources/bin/R CMD INSTALL MEB StartedAt: 2025-02-12 15:39:46 -0500 (Wed, 12 Feb 2025) EndedAt: 2025-02-12 15:40:23 -0500 (Wed, 12 Feb 2025) EllapsedTime: 37.5 seconds RetCode: 0 Status: OK