Package: MEDIPS Version: 1.59.0 Command: /Library/Frameworks/R.framework/Resources/bin/R CMD build --keep-empty-dirs --no-resave-data MEDIPS StartedAt: 2025-02-12 17:16:41 -0500 (Wed, 12 Feb 2025) EndedAt: 2025-02-12 17:18:39 -0500 (Wed, 12 Feb 2025) EllapsedTime: 117.7 seconds RetCode: 0 Status: OK PackageFile: MEDIPS_1.59.0.tar.gz PackageFileSize: 323 KiB