Package: MEDIPS Version: 1.59.0 Command: /Library/Frameworks/R.framework/Resources/bin/R CMD INSTALL MEDIPS StartedAt: 2025-02-12 15:20:38 -0500 (Wed, 12 Feb 2025) EndedAt: 2025-02-12 15:21:30 -0500 (Wed, 12 Feb 2025) EllapsedTime: 52.6 seconds RetCode: 0 Status: OK