Package: MEDIPS Version: 1.59.0 Command: /home/biocbuild/bbs-3.21-bioc/R/bin/R CMD build --keep-empty-dirs --no-resave-data MEDIPS StartedAt: 2025-02-09 17:58:59 -0500 (Sun, 09 Feb 2025) EndedAt: 2025-02-09 18:00:44 -0500 (Sun, 09 Feb 2025) EllapsedTime: 105.1 seconds RetCode: 0 Status: OK PackageFile: MEDIPS_1.59.0.tar.gz PackageFileSize: 322.8 KiB