Package: MEDIPS Version: 1.59.0 Command: /home/biocbuild/bbs-3.21-bioc/R/bin/R CMD check --install=check:MEDIPS.install-out.txt --library=/home/biocbuild/bbs-3.21-bioc/R/site-library --timings MEDIPS_1.59.0.tar.gz StartedAt: 2025-02-09 23:52:03 -0500 (Sun, 09 Feb 2025) EndedAt: 2025-02-09 23:58:53 -0500 (Sun, 09 Feb 2025) EllapsedTime: 410.6 seconds RetCode: 0 Status: OK CheckDir: MEDIPS.Rcheck Warnings: 0