Package: MEDIPS Version: 1.59.0 Command: rm -rf MEDIPS.buildbin-libdir && mkdir MEDIPS.buildbin-libdir && E:\biocbuild\bbs-3.21-bioc\R\bin\R.exe CMD INSTALL --build --library=MEDIPS.buildbin-libdir MEDIPS_1.59.0.tar.gz StartedAt: 2025-02-10 08:05:38 -0500 (Mon, 10 Feb 2025) EndedAt: 2025-02-10 08:06:38 -0500 (Mon, 10 Feb 2025) EllapsedTime: 60.0 seconds RetCode: 0 Status: OK PackageFile: MEDIPS_1.59.0.zip PackageFileSize: 752.1 KiB