Package: MEDIPS Version: 1.59.0 Command: E:\biocbuild\bbs-3.21-bioc\R\bin\R.exe CMD check --no-multiarch --install=check:MEDIPS.install-out.txt --library=E:\biocbuild\bbs-3.21-bioc\R\library --no-vignettes --timings MEDIPS_1.59.0.tar.gz StartedAt: 2025-02-10 02:38:58 -0500 (Mon, 10 Feb 2025) EndedAt: 2025-02-10 02:46:12 -0500 (Mon, 10 Feb 2025) EllapsedTime: 434.4 seconds RetCode: 0 Status: OK CheckDir: MEDIPS.Rcheck Warnings: 0