Package: MEDME Version: 1.67.0 Command: /Library/Frameworks/R.framework/Resources/bin/R CMD build --keep-empty-dirs --no-resave-data MEDME StartedAt: 2025-02-09 16:50:15 -0500 (Sun, 09 Feb 2025) EndedAt: 2025-02-09 16:50:32 -0500 (Sun, 09 Feb 2025) EllapsedTime: 17.2 seconds RetCode: 0 Status: OK PackageFile: MEDME_1.67.0.tar.gz PackageFileSize: 448.3 KiB