Package: MEDME Version: 1.67.0 Command: /Library/Frameworks/R.framework/Resources/bin/R CMD INSTALL MEDME StartedAt: 2025-02-09 15:22:58 -0500 (Sun, 09 Feb 2025) EndedAt: 2025-02-09 15:23:04 -0500 (Sun, 09 Feb 2025) EllapsedTime: 6.6 seconds RetCode: 0 Status: OK