Package: MEDME Version: 1.67.0 Command: /home/biocbuild/R/R/bin/R CMD INSTALL MEDME StartedAt: 2025-01-29 20:23:21 -0000 (Wed, 29 Jan 2025) EndedAt: 2025-01-29 20:23:41 -0000 (Wed, 29 Jan 2025) EllapsedTime: 19.8 seconds RetCode: 0 Status: OK