Package: MEDME Version: 1.67.0 Command: chmod a+r MEDME -R && E:\biocbuild\bbs-3.21-bioc\R\bin\R.exe CMD build --keep-empty-dirs --no-resave-data MEDME StartedAt: 2025-02-09 19:43:48 -0500 (Sun, 09 Feb 2025) EndedAt: 2025-02-09 19:44:41 -0500 (Sun, 09 Feb 2025) EllapsedTime: 53.5 seconds RetCode: 0 Status: OK PackageFile: MEDME_1.67.0.tar.gz PackageFileSize: 339.1 KiB