Package: MEDME Version: 1.67.0 Command: E:\biocbuild\bbs-3.21-bioc\R\bin\R.exe CMD check --no-multiarch --install=check:MEDME.install-out.txt --library=E:\biocbuild\bbs-3.21-bioc\R\library --no-vignettes --timings MEDME_1.67.0.tar.gz StartedAt: 2025-02-10 02:39:20 -0500 (Mon, 10 Feb 2025) EndedAt: 2025-02-10 02:41:48 -0500 (Mon, 10 Feb 2025) EllapsedTime: 148.6 seconds RetCode: 0 Status: WARNINGS CheckDir: MEDME.Rcheck Warnings: 1