Package: MEDME Version: 1.67.0 Command: E:\biocbuild\bbs-3.21-bioc\R\bin\R.exe CMD INSTALL MEDME StartedAt: 2025-02-09 15:59:52 -0500 (Sun, 09 Feb 2025) EndedAt: 2025-02-09 16:00:19 -0500 (Sun, 09 Feb 2025) EllapsedTime: 27.4 seconds RetCode: 0 Status: OK