Package: MEIGOR Version: 1.41.0 Command: rm -rf MEIGOR.buildbin-libdir && mkdir MEIGOR.buildbin-libdir && /Users/biocbuild/BBS/utils/build-universal.sh MEIGOR_1.41.0.tar.gz /Library/Frameworks/R.framework/Resources/bin/R MEIGOR.buildbin-libdir StartedAt: 2025-02-03 22:55:56 -0500 (Mon, 03 Feb 2025) EndedAt: 2025-02-03 22:56:01 -0500 (Mon, 03 Feb 2025) EllapsedTime: 5.1 seconds RetCode: 0 Status: OK PackageFile: MEIGOR_1.41.0.tgz PackageFileSize: 1.91 MiB