Package: MEIGOR Version: 1.41.0 Command: /home/biocbuild/R/R/bin/R CMD build --keep-empty-dirs --no-resave-data MEIGOR StartedAt: 2025-01-29 00:06:12 -0000 (Wed, 29 Jan 2025) EndedAt: 2025-01-29 00:07:16 -0000 (Wed, 29 Jan 2025) EllapsedTime: 64.0 seconds RetCode: 0 Status: OK PackageFile: MEIGOR_1.41.0.tar.gz PackageFileSize: 840.8 KiB