Package: MEIGOR Version: 1.41.0 Command: /Library/Frameworks/R.framework/Resources/bin/R CMD build --keep-empty-dirs --no-resave-data MEIGOR StartedAt: 2025-02-09 17:20:41 -0500 (Sun, 09 Feb 2025) EndedAt: 2025-02-09 17:21:39 -0500 (Sun, 09 Feb 2025) EllapsedTime: 57.2 seconds RetCode: 0 Status: OK PackageFile: MEIGOR_1.41.0.tar.gz PackageFileSize: 1.763 MiB