Package: MEIGOR Version: 1.41.0 Command: /Library/Frameworks/R.framework/Resources/bin/R CMD check --install=check:MEIGOR.install-out.txt --library=/Library/Frameworks/R.framework/Resources/library --no-vignettes --timings MEIGOR_1.41.0.tar.gz StartedAt: 2025-02-03 21:30:34 -0500 (Mon, 03 Feb 2025) EndedAt: 2025-02-03 21:32:17 -0500 (Mon, 03 Feb 2025) EllapsedTime: 103.0 seconds RetCode: 0 Status: OK CheckDir: MEIGOR.Rcheck Warnings: 0