Package: MEIGOR Version: 1.41.0 Command: /Library/Frameworks/R.framework/Resources/bin/R CMD INSTALL MEIGOR StartedAt: 2025-02-03 15:30:09 -0500 (Mon, 03 Feb 2025) EndedAt: 2025-02-03 15:30:22 -0500 (Mon, 03 Feb 2025) EllapsedTime: 12.9 seconds RetCode: 0 Status: OK