Package: MEIGOR Version: 1.41.0 Command: /home/biocbuild/bbs-3.21-bioc/R/bin/R CMD INSTALL MEIGOR StartedAt: 2025-02-03 15:45:52 -0500 (Mon, 03 Feb 2025) EndedAt: 2025-02-03 15:46:01 -0500 (Mon, 03 Feb 2025) EllapsedTime: 8.7 seconds RetCode: 0 Status: OK