Package: MEIGOR Version: 1.41.0 Command: rm -rf MEIGOR.buildbin-libdir && mkdir MEIGOR.buildbin-libdir && E:\biocbuild\bbs-3.21-bioc\R\bin\R.exe CMD INSTALL --build --library=MEIGOR.buildbin-libdir MEIGOR_1.41.0.tar.gz StartedAt: 2025-02-10 08:05:42 -0500 (Mon, 10 Feb 2025) EndedAt: 2025-02-10 08:06:13 -0500 (Mon, 10 Feb 2025) EllapsedTime: 30.2 seconds RetCode: 0 Status: OK PackageFile: MEIGOR_1.41.0.zip PackageFileSize: 718.8 KiB