Package: MEIGOR Version: 1.41.0 Command: E:\biocbuild\bbs-3.21-bioc\R\bin\R.exe CMD check --no-multiarch --install=check:MEIGOR.install-out.txt --library=E:\biocbuild\bbs-3.21-bioc\R\library --no-vignettes --timings MEIGOR_1.41.0.tar.gz StartedAt: 2025-02-04 03:07:44 -0500 (Tue, 04 Feb 2025) EndedAt: 2025-02-04 03:09:38 -0500 (Tue, 04 Feb 2025) EllapsedTime: 114.5 seconds RetCode: 0 Status: OK CheckDir: MEIGOR.Rcheck Warnings: 0