Package: MGFM Version: 1.41.0 Command: /home/biocbuild/R/R/bin/R CMD build --keep-empty-dirs --no-resave-data MGFM StartedAt: 2025-01-29 00:18:17 -0000 (Wed, 29 Jan 2025) EndedAt: 2025-01-29 00:18:52 -0000 (Wed, 29 Jan 2025) EllapsedTime: 35.0 seconds RetCode: 0 Status: OK PackageFile: MGFM_1.41.0.tar.gz PackageFileSize: 3.482 MiB