Package: MGFM Version: 1.41.0 Command: /Library/Frameworks/R.framework/Resources/bin/R CMD build --keep-empty-dirs --no-resave-data MGFM StartedAt: 2025-02-03 17:25:05 -0500 (Mon, 03 Feb 2025) EndedAt: 2025-02-03 17:25:41 -0500 (Mon, 03 Feb 2025) EllapsedTime: 36.6 seconds RetCode: 0 Status: OK PackageFile: MGFM_1.41.0.tar.gz PackageFileSize: 3.49 MiB