Package: MGFM Version: 1.41.0 Command: /home/biocbuild/bbs-3.21-bioc/R/bin/R CMD build --keep-empty-dirs --no-resave-data MGFM StartedAt: 2025-02-09 18:06:12 -0500 (Sun, 09 Feb 2025) EndedAt: 2025-02-09 18:06:40 -0500 (Sun, 09 Feb 2025) EllapsedTime: 28.0 seconds RetCode: 0 Status: OK PackageFile: MGFM_1.41.0.tar.gz PackageFileSize: 3.491 MiB