Package: MGFM Version: 1.41.0 Command: /home/biocbuild/bbs-3.21-bioc/R/bin/R CMD INSTALL MGFM StartedAt: 2025-02-03 15:37:15 -0500 (Mon, 03 Feb 2025) EndedAt: 2025-02-03 15:37:28 -0500 (Mon, 03 Feb 2025) EllapsedTime: 12.7 seconds RetCode: 0 Status: OK