Package: MGFM Version: 1.41.0 Command: chmod a+r MGFM -R && E:\biocbuild\bbs-3.21-bioc\R\bin\R.exe CMD build --keep-empty-dirs --no-resave-data MGFM StartedAt: 2025-02-09 19:52:41 -0500 (Sun, 09 Feb 2025) EndedAt: 2025-02-09 19:53:20 -0500 (Sun, 09 Feb 2025) EllapsedTime: 39.0 seconds RetCode: 0 Status: OK PackageFile: MGFM_1.41.0.tar.gz PackageFileSize: 3.301 MiB