Package: MGFM Version: 1.41.0 Command: E:\biocbuild\bbs-3.21-bioc\R\bin\R.exe CMD INSTALL MGFM StartedAt: 2025-02-09 15:46:51 -0500 (Sun, 09 Feb 2025) EndedAt: 2025-02-09 15:47:10 -0500 (Sun, 09 Feb 2025) EllapsedTime: 19.0 seconds RetCode: 0 Status: OK