Package: MGFR Version: 1.33.0 Maintainer: Khadija El Amrani MaintainerEmail: a.khadija at gmx.de git_url: https://git.bioconductor.org/packages/MGFR git_branch: devel git_last_commit: 3887a1b git_last_commit_date: 2024-10-29 10:12:09 -0500 (Tue, 29 Oct 2024)