Package: MGFR Version: 1.33.0 Command: /Library/Frameworks/R.framework/Resources/bin/R CMD INSTALL MGFR StartedAt: 2025-02-09 15:13:18 -0500 (Sun, 09 Feb 2025) EndedAt: 2025-02-09 15:13:24 -0500 (Sun, 09 Feb 2025) EllapsedTime: 6.6 seconds RetCode: 0 Status: OK