Package: MGFR Version: 1.33.0 Command: rm -rf MGFR.buildbin-libdir && mkdir MGFR.buildbin-libdir && /Users/biocbuild/BBS/utils/build-universal.sh MGFR_1.33.0.tar.gz /Library/Frameworks/R.framework/Resources/bin/R MGFR.buildbin-libdir StartedAt: 2025-02-10 01:02:24 -0500 (Mon, 10 Feb 2025) EndedAt: 2025-02-10 01:02:47 -0500 (Mon, 10 Feb 2025) EllapsedTime: 23.0 seconds RetCode: 0 Status: OK PackageFile: MGFR_1.33.0.tgz PackageFileSize: 2.64 MiB