Package: MGFR Version: 1.33.0 Command: /Library/Frameworks/R.framework/Resources/bin/R CMD check --install=check:MGFR.install-out.txt --library=/Library/Frameworks/R.framework/Resources/library --no-vignettes --timings MGFR_1.33.0.tar.gz StartedAt: 2025-02-04 21:37:07 -0500 (Tue, 04 Feb 2025) EndedAt: 2025-02-04 21:39:27 -0500 (Tue, 04 Feb 2025) EllapsedTime: 139.8 seconds RetCode: 0 Status: OK CheckDir: MGFR.Rcheck Warnings: 0