Package: MGFR Version: 1.33.0 Command: /home/biocbuild/bbs-3.21-bioc/R/bin/R CMD INSTALL MGFR StartedAt: 2025-02-04 15:26:55 -0500 (Tue, 04 Feb 2025) EndedAt: 2025-02-04 15:27:11 -0500 (Tue, 04 Feb 2025) EllapsedTime: 15.7 seconds RetCode: 0 Status: OK