Package: MGFR Version: 1.33.0 Command: rm -rf MGFR.buildbin-libdir && mkdir MGFR.buildbin-libdir && E:\biocbuild\bbs-3.21-bioc\R\bin\R.exe CMD INSTALL --build --library=MGFR.buildbin-libdir MGFR_1.33.0.tar.gz StartedAt: 2025-02-10 08:08:17 -0500 (Mon, 10 Feb 2025) EndedAt: 2025-02-10 08:08:35 -0500 (Mon, 10 Feb 2025) EllapsedTime: 17.8 seconds RetCode: 0 Status: OK PackageFile: MGFR_1.33.0.zip PackageFileSize: 2.452 MiB