Package: MGFR Version: 1.33.0 Command: chmod a+r MGFR -R && E:\biocbuild\bbs-3.21-bioc\R\bin\R.exe CMD build --keep-empty-dirs --no-resave-data MGFR StartedAt: 2025-02-09 19:52:42 -0500 (Sun, 09 Feb 2025) EndedAt: 2025-02-09 19:53:39 -0500 (Sun, 09 Feb 2025) EllapsedTime: 57.1 seconds RetCode: 0 Status: OK PackageFile: MGFR_1.33.0.tar.gz PackageFileSize: 1.635 MiB