Package: MGnifyR Version: 1.3.0 Command: rm -rf MGnifyR.buildbin-libdir && mkdir MGnifyR.buildbin-libdir && /Users/biocbuild/BBS/utils/build-universal.sh MGnifyR_1.3.0.tar.gz /Library/Frameworks/R.framework/Resources/bin/R MGnifyR.buildbin-libdir StartedAt: 2025-02-09 22:21:00 -0500 (Sun, 09 Feb 2025) EndedAt: 2025-02-09 22:21:19 -0500 (Sun, 09 Feb 2025) EllapsedTime: 18.4 seconds RetCode: 0 Status: OK PackageFile: MGnifyR_1.3.0.tgz PackageFileSize: 4.387 MiB